


BEGIN:VCALENDAR
VERSION:2.0
PRODID:-//CBH Rio das Velhas - ECPv5.16.3.1//NONSGML v1.0//EN
CALSCALE:GREGORIAN
METHOD:PUBLISH
X-WR-CALNAME:CBH Rio das Velhas
X-ORIGINAL-URL:https://cbhvelhas.org.br
X-WR-CALDESC:Eventos para CBH Rio das Velhas
BEGIN:VTIMEZONE
TZID:America/Sao_Paulo
BEGIN:STANDARD
TZOFFSETFROM:-0200
TZOFFSETTO:-0300
TZNAME:-03
DTSTART:20160221T020000
END:STANDARD
BEGIN:DAYLIGHT
TZOFFSETFROM:-0300
TZOFFSETTO:-0200
TZNAME:-02
DTSTART:20161016T030000
END:DAYLIGHT
END:VTIMEZONE
BEGIN:VEVENT
DTSTART;TZID=America/Sao_Paulo:20161213T093000
DTEND;TZID=America/Sao_Paulo:20161213T120000
DTSTAMP:20260424T030119
CREATED:20200213T185518Z
LAST-MODIFIED:20200213T185518Z
UID:61263-1481621400-1481630400@cbhvelhas.org.br
SUMMARY:Subcomitê Santo Antônio – Maquiné se reúne em Curvelo (MG)
DESCRIPTION:Oficina de Biomonitoramento\, Seminário dois lados da Moeda e oficina sobre Plano Diretor do CBH Rio das Velhas estão entre os assuntos que serão discutidos na reunião.\nO encontro acontecerá no dia 13/12 – terça-feira\, às 09h30\, na ARPA – Associação Regional de Proteção Ambiental da Comarca de Curvelo – Rua Dona Guiomar Silva Diniz\, 200 – Centro – Curvelo-MG – Telefone: (38) 3722 – 6995. \nConheça a pauta:\nRecepção de conselheiros (as) e convidados (as)\n1 – Aprovação da minuta de ata: 11/10/2016;\n2 – Informes Gerais: Palavra Aberta\n– Relato acerca da oficina de Biomonitoramento – CBH Rio das Velhas – ministrada em Curvelo;\n– Participação do SCBH Rib. Santo Ant. Maquiné no “Seminário dois lados da Moeda”;\n– Avaliação sobre a Visita de Campo – ETE/Copasa;\n– Oficina sobre Plano Diretor do CBH Rio das Velhas;\n– Reunião com os Coordenadores de Subcomitês – encaminhamentos;\n3 – Projeto Hidroambiental: encaminhamentos.\n4 – Projeto VIA 040: compensatórios de espécies florestais nativas dos biomas Cerrado e Mata Atlântica.\n5 – Discussão e encaminhamentos. \nQuaisquer informações complementares e a confirmação de sua presença ou representante poderão ser feitas através do telefone (31) 3222-8350 e por meio dos endereços eletrônicos politacito@cbhvelhas.org.br ou paulo.cesar@cbhvelhas.org.br.
URL:https://cbhvelhas.org.br/evento/subcomite-santo-antonio-maquine-se-reune-em-curvelo-mg-4/
END:VEVENT
END:VCALENDAR