


BEGIN:VCALENDAR
VERSION:2.0
PRODID:-//CBH Rio das Velhas - ECPv5.16.3.1//NONSGML v1.0//EN
CALSCALE:GREGORIAN
METHOD:PUBLISH
X-WR-CALNAME:CBH Rio das Velhas
X-ORIGINAL-URL:https://cbhvelhas.org.br
X-WR-CALDESC:Eventos para CBH Rio das Velhas
BEGIN:VTIMEZONE
TZID:America/Sao_Paulo
BEGIN:STANDARD
TZOFFSETFROM:-0200
TZOFFSETTO:-0300
TZNAME:-03
DTSTART:20180218T020000
END:STANDARD
BEGIN:DAYLIGHT
TZOFFSETFROM:-0300
TZOFFSETTO:-0200
TZNAME:-02
DTSTART:20181104T030000
END:DAYLIGHT
END:VTIMEZONE
BEGIN:VEVENT
DTSTART;TZID=America/Sao_Paulo:20180410T130000
DTEND;TZID=America/Sao_Paulo:20180410T153000
DTSTAMP:20260421T160541
CREATED:20200213T185405Z
LAST-MODIFIED:20200213T185405Z
UID:61227-1523365200-1523374200@cbhvelhas.org.br
SUMMARY:Subcomitês Ribeirão Caeté – Sabará e Poderoso Vermelho irão realizar reunião conjunta em Santa Luzia
DESCRIPTION:Retorno da equipe de mobilização e projetos hidroambientais estão entre os assuntos que serão discutidos na reunião.\nO encontro acontecerá no dia 10 de abril de 2018\, às 13h00\, no Hotel Floresta Mágica – Av. Beira-Rio\, 1045 – Distrito Simão da Cunha\, Santa Luzia – MG (Avenida oriunda do trevo de Sta. Luzia na BR 381 – à esquerda de quem vem de Belo Horizonte ou à direita de quem vem de Ravena). \nConheça a pauta:\n13h00 – Recepção de Conselheiros (as) e convidados;\n13h30 – Apresentação sobre retorno da Equipe de Mobilização FUNDEP\, Projetos Hidroambientais e outras demandas nas UTE Poderoso Vermelho e Caeté Sabará – Élio Domingos/ Equipe de Mobilização;\n14h30 – Informes e roda de conversa. \nQuaisquer informações complementares e a confirmação de sua presença ou representante poderão ser feitas através do telefone (31) 3222-8350 ou por meio do endereço eletrônico elio.domingos@cbhvelhas.org.br.
URL:https://cbhvelhas.org.br/evento/subcomites-ribeirao-caete-sabara-e-poderoso-vermelho-irao-realizar-reuniao-conjunta-em-santa-luzia/
END:VEVENT
END:VCALENDAR